BEGIN:VCALENDAR
VERSION:2.0
PRODID:-//Enseignement Moral et Civique - ECPv6.15.20//NONSGML v1.0//EN
CALSCALE:GREGORIAN
METHOD:PUBLISH
X-ORIGINAL-URL:https://pedagogie.ac-lille.fr/emc
X-WR-CALDESC:Évènements pour Enseignement Moral et Civique
REFRESH-INTERVAL;VALUE=DURATION:PT1H
X-Robots-Tag:noindex
X-PUBLISHED-TTL:PT1H
BEGIN:VTIMEZONE
TZID:Europe/Paris
BEGIN:DAYLIGHT
TZOFFSETFROM:+0100
TZOFFSETTO:+0200
TZNAME:CEST
DTSTART:20240331T010000
END:DAYLIGHT
BEGIN:STANDARD
TZOFFSETFROM:+0200
TZOFFSETTO:+0100
TZNAME:CET
DTSTART:20241027T010000
END:STANDARD
BEGIN:DAYLIGHT
TZOFFSETFROM:+0100
TZOFFSETTO:+0200
TZNAME:CEST
DTSTART:20250330T010000
END:DAYLIGHT
BEGIN:STANDARD
TZOFFSETFROM:+0200
TZOFFSETTO:+0100
TZNAME:CET
DTSTART:20251026T010000
END:STANDARD
BEGIN:DAYLIGHT
TZOFFSETFROM:+0100
TZOFFSETTO:+0200
TZNAME:CEST
DTSTART:20260329T010000
END:DAYLIGHT
BEGIN:STANDARD
TZOFFSETFROM:+0200
TZOFFSETTO:+0100
TZNAME:CET
DTSTART:20261025T010000
END:STANDARD
BEGIN:DAYLIGHT
TZOFFSETFROM:+0100
TZOFFSETTO:+0200
TZNAME:CEST
DTSTART:20270328T010000
END:DAYLIGHT
BEGIN:STANDARD
TZOFFSETFROM:+0200
TZOFFSETTO:+0100
TZNAME:CET
DTSTART:20271031T010000
END:STANDARD
END:VTIMEZONE
BEGIN:VEVENT
DTSTART;TZID=Europe/Paris:20251201T080000
DTEND;TZID=Europe/Paris:20260101T080000
DTSTAMP:20260422T072818
CREATED:20251018T173807Z
LAST-MODIFIED:20260118T134220Z
UID:2111-1764576000-1767254400@pedagogie.ac-lille.fr
SUMMARY:Challenge de cybersécurité “Passe ton Hack d'abord”
DESCRIPTION:Le ministère des Armées\, en collaboration avec la DGESCO\, organise la 4e édition du challenge de cybersécurité “Passe ton Hack d’abord”. Ce challenge s’adresse aux lycéens de la seconde à la terminale\, ainsi qu’aux étudiants de BTS et de classes préparatoires\, afin de les initier au domaine de la cyberdéfense.\n\n\nLes inscriptions sont ouvertes via le nouvel espace Magistère jusqu’au 31 décembre 2025.\nLes épreuves se tiendront du 19 janvier eu 6 février 2026.accessible à l’adresse suivante. La date limite d’inscription est fixée au 31 décembre 2025. Les épreuves se tiendront du 19 janvier au 6 février 2026.\nLien pour s’inscrire : https://partage02.magistere.apps.education.fr/course/view.php?id=300\n\nPour plus d’informations\, vous pouvez vous rendre sur la page suivante : https://www.education.gouv.fr/passe-ton-hack-d-abord-le-plus-grand-challenge-cyber-de-france-va-plonger-les-lyceennes-et-lyceens-416207
URL:https://pedagogie.ac-lille.fr/emc/event/challenge-de-cybersecurite-passe-ton-hack-dabord/
END:VEVENT
BEGIN:VEVENT
DTSTART;VALUE=DATE:20251213
DTEND;VALUE=DATE:20251222
DTSTAMP:20260422T072818
CREATED:20251022T140900Z
LAST-MODIFIED:20251213T145558Z
UID:2208-1765584000-1766361599@pedagogie.ac-lille.fr
SUMMARY:Date limite de candidature au "Prix Ilan Halimi" 2026
DESCRIPTION:Pour rappel\, la date pour candidater au « Prix Ilan Halimi » 2026 est le 21 décembre 2025 inclus. \nDossier de candidature
URL:https://pedagogie.ac-lille.fr/emc/event/date-limite-de-candidature-au-prix-ilan-halimi-2026/
END:VEVENT
END:VCALENDAR