BEGIN:VCALENDAR
VERSION:2.0
PRODID:-//Enseignement Moral et Civique - ECPv6.15.20//NONSGML v1.0//EN
CALSCALE:GREGORIAN
METHOD:PUBLISH
X-WR-CALNAME:Enseignement Moral et Civique
X-ORIGINAL-URL:https://pedagogie.ac-lille.fr/emc
X-WR-CALDESC:Évènements pour Enseignement Moral et Civique
REFRESH-INTERVAL;VALUE=DURATION:PT1H
X-Robots-Tag:noindex
X-PUBLISHED-TTL:PT1H
BEGIN:VTIMEZONE
TZID:Europe/Paris
BEGIN:DAYLIGHT
TZOFFSETFROM:+0100
TZOFFSETTO:+0200
TZNAME:CEST
DTSTART:20250330T010000
END:DAYLIGHT
BEGIN:STANDARD
TZOFFSETFROM:+0200
TZOFFSETTO:+0100
TZNAME:CET
DTSTART:20251026T010000
END:STANDARD
BEGIN:DAYLIGHT
TZOFFSETFROM:+0100
TZOFFSETTO:+0200
TZNAME:CEST
DTSTART:20260329T010000
END:DAYLIGHT
BEGIN:STANDARD
TZOFFSETFROM:+0200
TZOFFSETTO:+0100
TZNAME:CET
DTSTART:20261025T010000
END:STANDARD
BEGIN:DAYLIGHT
TZOFFSETFROM:+0100
TZOFFSETTO:+0200
TZNAME:CEST
DTSTART:20270328T010000
END:DAYLIGHT
BEGIN:STANDARD
TZOFFSETFROM:+0200
TZOFFSETTO:+0100
TZNAME:CET
DTSTART:20271031T010000
END:STANDARD
END:VTIMEZONE
BEGIN:VEVENT
DTSTART;TZID=Europe/Paris:20260201T080000
DTEND;TZID=Europe/Paris:20260207T170000
DTSTAMP:20260422T020426
CREATED:20251013T170504Z
LAST-MODIFIED:20260208T102602Z
UID:2105-1769932800-1770483600@pedagogie.ac-lille.fr
SUMMARY:Concours de "La Flamme de l'égalité"
DESCRIPTION:Pour cette 11ème session\, les élèves et les équipes pédagogiques sont invités à mener un projet pédagogique\nsur la thématique « Femmes en esclavage ». \n \nLes inscriptions sont ouvertes jusqu’au 27 février 2026 sur Adage. \nVous trouverez le règlement du concours et des informations complémentaires  en suivant le lien suivant : https://pedagogie.ac-lille.fr/histoire-geographie/wp-content/uploads/sites/8/2025/09/Reglement-du-concours-la-Flamme-de-legalite-session-2025-2026-MAJ-08-09-2025.pdf \nou en vous rendant sur le site du concours :https://www.laflammedelegalite.org/ \n 
URL:https://pedagogie.ac-lille.fr/emc/event/concours-de-la-flamme-de-legalite/
ATTACH;FMTTYPE=image/png:https://pedagogie.ac-lille.fr/emc/wp-content/uploads/sites/61/2024/04/Capture.png
END:VEVENT
BEGIN:VEVENT
DTSTART;VALUE=DATE:20260206
DTEND;VALUE=DATE:20260207
DTSTAMP:20260422T020426
CREATED:20251022T143911Z
LAST-MODIFIED:20251022T143911Z
UID:2222-1770336000-1770422399@pedagogie.ac-lille.fr
SUMMARY:Date limite à l'inscription au concours "Découvrons notre Constitution" 2025-2026
DESCRIPTION:Pour rappel les inscriptions au concours « Découvrons notre Constitution » \nsont ouvertes jusqu’au 6 février 2026 inclus. \nSite du concours.
URL:https://pedagogie.ac-lille.fr/emc/event/date-limite-a-linscription-au-concours-decouvrons-notre-constitution-2025-2026/
ATTACH;FMTTYPE=image/jpeg:https://pedagogie.ac-lille.fr/emc/wp-content/uploads/sites/61/2025/10/decouvrons-notre-constitution.jpg
END:VEVENT
BEGIN:VEVENT
DTSTART;VALUE=DATE:20260227
DTEND;VALUE=DATE:20260228
DTSTAMP:20260422T020426
CREATED:20251022T133656Z
LAST-MODIFIED:20251022T133741Z
UID:2197-1772150400-1772236799@pedagogie.ac-lille.fr
SUMMARY:Date limite d'inscription au concours de "La Flamme de l'égalité" session 2025-2026
DESCRIPTION:Pour rappel les inscriptions au concours de « La Flamme de l’égalité » \nsont ouvertes jusqu’au 27 février 2026 inclus sur Adage. \nSite du concours.
URL:https://pedagogie.ac-lille.fr/emc/event/date-limite-dinscription-au-concours-de-la-flamme-de-legalite-session-2025-2026/
ATTACH;FMTTYPE=image/jpeg:https://pedagogie.ac-lille.fr/emc/wp-content/uploads/sites/61/2025/10/flamme-de-legalite.jpg
END:VEVENT
END:VCALENDAR